BEGIN:VCALENDAR
VERSION:2.0
PRODID:-//ChamberMaster//Event Calendar 2.0//EN
METHOD:PUBLISH
X-PUBLISHED-TTL:P3D
REFRESH-INTERVAL:P3D
CALSCALE:GREGORIAN
BEGIN:VEVENT
DTSTART:20200313T230000Z
DTEND:20200314T003000Z
X-MICROSOFT-CDO-ALLDAYEVENT:FALSE
SUMMARY:Kids Club at Tthe Shops at Montebello
DESCRIPTION:Join The Shops at Montebello on the 2nd Friday of the Month for Kids Club! Families are welcome for a time of play\, snacks and giveaways!  Have fun with King Putt and their friends from Golf N' Stuff. There will be face painting\, balloon artist\, snacks and Yogurtland.
X-ALT-DESC;FMTTYPE=text/html:<font color="#222222">Join The Shops at Montebello on the 2nd Friday of the Month for Kids Club! Families are welcome for a time of play\, snacks and giveaways!&nbsp\; Have </font><span style="color: rgb(34\, 34\, 34)\;">fun with King Putt and their friends from Golf N&#39\; Stuff. There will be face painting\, balloon artist\, snacks and Yogurtland.</span>
LOCATION:The Shops at Montebello 2134 Town Center Drive Montebello\, CA 90640
UID:e.1156.3642
SEQUENCE:3
DTSTAMP:20260422T190355Z
URL:https://business.montebellochamber.org/events/details/kids-club-at-tthe-shops-at-montebello-3642
END:VEVENT

END:VCALENDAR
