BEGIN:VCALENDAR
VERSION:2.0
PRODID:-//ChamberMaster//Event Calendar 2.0//EN
METHOD:PUBLISH
X-PUBLISHED-TTL:P3D
REFRESH-INTERVAL:P3D
CALSCALE:GREGORIAN
BEGIN:VEVENT
DTSTART;VALUE=DATE:20200630
DTEND;VALUE=DATE:20200705
TRANSP:TRANSPARENT
X-MICROSOFT-CDO-ALLDAYEVENT:TRUE
SUMMARY:Lions Club of Montebello Annual Fireworks Booth
DESCRIPTION:Lions Club of Montebello Annual Fireworks Booth\n\nAll proceeds go t community projects!
X-ALT-DESC;FMTTYPE=text/html:Lions Club of Montebello Annual Fireworks Booth<br />\nAll proceeds go t community projects!
LOCATION:Montebello Mart Shopping Center 802 West Beverly Blvd. Montebello\, CA 90640 (Across from Rite Aid)
UID:e.1156.3723
SEQUENCE:3
DTSTAMP:20260422T225049Z
URL:https://business.montebellochamber.org/events/details/lions-club-of-montebello-annual-fireworks-booth-3723
END:VEVENT

END:VCALENDAR
