BEGIN:VCALENDAR
VERSION:2.0
PRODID:-//ChamberMaster//Event Calendar 2.0//EN
METHOD:PUBLISH
X-PUBLISHED-TTL:P3D
REFRESH-INTERVAL:P3D
CALSCALE:GREGORIAN
BEGIN:VEVENT
DTSTART:20200620T023000Z
DTEND:20200620T023000Z
X-MICROSOFT-CDO-ALLDAYEVENT:FALSE
SUMMARY:Live Music! Golden Skewer presents The Wiseguys Big Band Machine!
DESCRIPTION:Golden Skewer presents The Wiseguys Big Band Machine Livestreaming- Facebook!!
X-ALT-DESC;FMTTYPE=text/html:Golden Skewer presents The Wiseguys Big Band Machine Livestreaming- Facebook!!
LOCATION:Golden Skewer Restaurant
UID:e.1156.3703
SEQUENCE:3
DTSTAMP:20260422T225049Z
URL:https://business.montebellochamber.org/events/details/live-music-golden-skewer-presents-the-wiseguys-big-band-machine-3703
END:VEVENT

END:VCALENDAR
