BEGIN:VCALENDAR
VERSION:2.0
PRODID:-//ChamberMaster//Event Calendar 2.0//EN
METHOD:PUBLISH
X-PUBLISHED-TTL:P3D
REFRESH-INTERVAL:P3D
CALSCALE:GREGORIAN
BEGIN:VEVENT
DTSTART:20190503T153000Z
DTEND:20190503T210000Z
X-MICROSOFT-CDO-ALLDAYEVENT:FALSE
SUMMARY:MAOF 40th Latina Conference
DESCRIPTION:Mexican American Opportunity Foundation \n\n40th Latina Conference\n\n\n\nSAVE THE DATE!
X-ALT-DESC;FMTTYPE=text/html:Mexican American Opportunity Foundation&nbsp\;<br />\n40th Latina Conference<br />\n<br />\nSAVE THE DATE!
LOCATION:Quiet Cannon 901 Via San Clemente Montebello\, CA 90640
UID:e.1156.3181
SEQUENCE:3
DTSTAMP:20260422T062102Z
URL:https://business.montebellochamber.org/events/details/maof-40th-latina-conference-3181
END:VEVENT

END:VCALENDAR
