BEGIN:VCALENDAR
VERSION:2.0
PRODID:-//ChamberMaster//Event Calendar 2.0//EN
METHOD:PUBLISH
X-PUBLISHED-TTL:P3D
REFRESH-INTERVAL:P3D
CALSCALE:GREGORIAN
BEGIN:VEVENT
DTSTART:20191026T010000Z
DTEND:20191026T050000Z
X-MICROSOFT-CDO-ALLDAYEVENT:FALSE
SUMMARY:MAOF 52nd Annual Aztec Award Gala
DESCRIPTION:Mexican American Opportunity Foundation\n\n52nd Annual Aztec Awards Gala\n\n\n\nSAVE THE DATE
X-ALT-DESC;FMTTYPE=text/html:Mexican American Opportunity Foundation<br />\n52nd Annual Aztec Awards Gala<br />\n<br />\nSAVE THE DATE
LOCATION:Millennium Biltmore Hotel 506 S. Grand Ave. Los Angeles\, A 90071
UID:e.1156.3180
SEQUENCE:3
DTSTAMP:20260422T130352Z
URL:https://business.montebellochamber.org/events/details/maof-52nd-annual-aztec-award-gala-3180
END:VEVENT

END:VCALENDAR
