BEGIN:VCALENDAR
VERSION:2.0
PRODID:-//ChamberMaster//Event Calendar 2.0//EN
METHOD:PUBLISH
X-PUBLISHED-TTL:P3D
REFRESH-INTERVAL:P3D
CALSCALE:GREGORIAN
BEGIN:VEVENT
DTSTART;VALUE=DATE:20200311
DTEND;VALUE=DATE:20200312
TRANSP:TRANSPARENT
X-MICROSOFT-CDO-ALLDAYEVENT:TRUE
SUMMARY:Meet the Easter Bunny Begins
DESCRIPTION:Hop on down to The Shops at Montebello beginning Wednesday\, March 11th for photos with the Easter Bunny! Each child who visits the Easter Bunny in Center Court will receive a bunny ears and a coloring book to take home. \n\nSEE FULL SCHEDULE BELOW \n\nWednesday 3/11- 11am-8pm\n\nThursday 3/12- 11am-8pm\n\nFriday 3/13- 11am-8pm\n\nSaturday 3/14- 10am-8pm\n\nSunday 3/15 11am-7pm\n\nMonday 3/16 11-8pm\n\nTuesday 3/17 11-8pm\, 6pm-8pm Pet Night \n\nWednesday 3/18- 11am-8pm\n\nThursday 3/19- 11am-8pm\n\nFriday 3/20- 11am-8pm\n\nSaturday 3/21- 10am-8pm\n\nSunday 3/22 11am-7pm\, 9am-11am Sensitive Bunny: RSVP HERE.\n\nMonday 3/23 11-8pm\n\nTuesday 3/24 11-8pm\, 6pm-8pm Pet Night \n\nWednesday 3/25- 11am-8pm\n\nThursday 3/26- 11am-8pm\n\nFriday 3/27- 11am-8pm\n\nSaturday 3/28- 10am-8pm\n\nSunday 3/29 11am-7pm\, 9am-11am Sensitive Bunny: RSVP HERE. \n\nMonday 3/30 11-8pm\n\nTuesday 3/31 11-8pm\, 6pm-8pm Pet Night \n\nWednesday 4/1- 11am-8pm\n\nThursday 4/2- 11am-8pm\n\nFriday 4/3- 11am-8pm\n\nSaturday 4/4- 10am-8pm\n\nSunday 4/5 11am-7pm\n\nMonday 4/6 11-8:30pm\n\nTuesday 4/7 11-8:30pm\, 6pm-8:30pm Pet Night \n\nWednesday 4/8- 11am-8:30pm\n\nThursday 4/9- 11am-8:30pm\n\nFriday 4/10- 11am-8:30pm\n\nSaturday 4/11- 10am-9pm\n\n*Schedule Subject to Change
X-ALT-DESC;FMTTYPE=text/html:<div class="mcd-event-description editor_output">\n<p>Hop on down to The Shops at Montebello beginning Wednesday\, March 11th for photos with the Easter Bunny! Each child who visits the Easter Bunny in Center Court will receive a bunny ears and a coloring book to take home.&nbsp\;</p>\n\n<p><b><u>SEE FULL SCHEDULE BELOW</u></b>&nbsp\;</p>\n\n<p>Wednesday 3/11- 11am-8pm</p>\n\n<p>Thursday 3/12- 11am-8pm</p>\n\n<p>Friday 3/13- 11am-8pm</p>\n\n<p>Saturday 3/14- 10am-8pm</p>\n\n<p>Sunday 3/15 11am-7pm</p>\n\n<p>Monday 3/16 11-8pm</p>\n\n<p>Tuesday 3/17 11-8pm\, 6pm-8pm <b>Pet Night </b></p>\n\n<p>Wednesday 3/18- 11am-8pm</p>\n\n<p>Thursday 3/19- 11am-8pm</p>\n\n<p>Friday 3/20- 11am-8pm</p>\n\n<p>Saturday 3/21- 10am-8pm</p>\n\n<p>Sunday 3/22 11am-7pm\, 9am-11am <b>Sensitive Bunny: RSVP <a href="https://www.eventbrite.com/e/the-shops-at-montebello-322-bunny-cares-tickets-95684947253" target="_blank">HERE.</a></b></p>\n\n<p>Monday 3/23 11-8pm</p>\n\n<p>Tuesday 3/24 11-8pm\, 6pm-8pm <b>Pet Night </b></p>\n\n<p>Wednesday 3/25- 11am-8pm</p>\n\n<p>Thursday 3/26- 11am-8pm</p>\n\n<p>Friday 3/27- 11am-8pm</p>\n\n<p>Saturday 3/28- 10am-8pm</p>\n\n<p>Sunday 3/29 11am-7pm\, 9am-11am <b>Sensitive Bunny: RSVP <a href="https://www.eventbrite.com/e/the-shops-at-montebello-329-bunny-cares-tickets-95681988403" target="_blank">HERE.</a>&nbsp\;</b></p>\n\n<p>Monday 3/30 11-8pm</p>\n\n<p>Tuesday 3/31 11-8pm\, 6pm-8pm <b>Pet Night </b></p>\n\n<p>Wednesday 4/1- 11am-8pm</p>\n\n<p>Thursday 4/2- 11am-8pm</p>\n\n<p>Friday 4/3- 11am-8pm</p>\n\n<p>Saturday 4/4- 10am-8pm</p>\n\n<p>Sunday 4/5 11am-7pm</p>\n\n<p>Monday 4/6 11-8:30pm</p>\n\n<p>Tuesday 4/7 11-8:30pm\, 6pm-8:30pm <b>Pet Night </b></p>\n\n<p>Wednesday 4/8- 11am-8:30pm</p>\n\n<p>Thursday 4/9- 11am-8:30pm</p>\n\n<p>Friday 4/10- 11am-8:30pm</p>\n\n<p>Saturday 4/11- 10am-9pm</p>\n\n<p><b>*Schedule Subject to Change&nbsp\;</b></p>\n</div>\n
LOCATION:
UID:e.1156.3641
SEQUENCE:3
DTSTAMP:20260422T190113Z
URL:https://business.montebellochamber.org/events/details/meet-the-easter-bunny-begins-3641
END:VEVENT

END:VCALENDAR
