BEGIN:VCALENDAR
VERSION:2.0
PRODID:-//ChamberMaster//Event Calendar 2.0//EN
METHOD:PUBLISH
X-PUBLISHED-TTL:P3D
REFRESH-INTERVAL:P3D
CALSCALE:GREGORIAN
BEGIN:VEVENT
DTSTART:20160701T200000Z
DTEND:20160701T210000Z
X-MICROSOFT-CDO-ALLDAYEVENT:FALSE
SUMMARY:Montebello First Friday Cash Mob - Chef Chen
DESCRIPTION:Montebello First Friday CA$H MOB\n\nJoin the Montebello Chamber at our First Cash Mob!
X-ALT-DESC;FMTTYPE=text/html:Montebello First Friday CA$H MOB<br />\nJoin the Montebello Chamber at our First Cash Mob!<br />\n&nbsp\;
LOCATION:Chef Chen 137 N. Montebello Blvd. - Ste. K Montebello\, CA 90640
UID:e.1156.1488
SEQUENCE:3
DTSTAMP:20260420T041732Z
URL:https://business.montebellochamber.org/events/details/montebello-first-friday-cash-mob-chef-chen-07-01-2016-1488
END:VEVENT

END:VCALENDAR
