BEGIN:VCALENDAR
VERSION:2.0
PRODID:-//ChamberMaster//Event Calendar 2.0//EN
METHOD:PUBLISH
X-PUBLISHED-TTL:P3D
REFRESH-INTERVAL:P3D
CALSCALE:GREGORIAN
BEGIN:VEVENT
DTSTART:20200618T160000Z
DTEND:20200618T230000Z
X-MICROSOFT-CDO-ALLDAYEVENT:FALSE
SUMMARY:Montebello High School Drive Thru 2020 Graduation!
DESCRIPTION:Montebello Unified School District-Montebello High School Drive Thru 2020 Graduation!
X-ALT-DESC;FMTTYPE=text/html:Montebello Unified School District-Montebello High School Drive Thru 2020 Graduation!
LOCATION:Montebello High School 2100 W. Cleveland Ave. Montebello\, CA 90640
UID:e.1156.3709
SEQUENCE:3
DTSTAMP:20260422T224815Z
URL:https://business.montebellochamber.org/events/details/montebello-high-school-drive-thru-2020-graduation-3709
END:VEVENT

END:VCALENDAR
