BEGIN:VCALENDAR
VERSION:2.0
PRODID:-//ChamberMaster//Event Calendar 2.0//EN
METHOD:PUBLISH
X-PUBLISHED-TTL:P3D
REFRESH-INTERVAL:P3D
CALSCALE:GREGORIAN
BEGIN:VEVENT
DTSTART:20190309T163000Z
DTEND:20190309T193000Z
X-MICROSOFT-CDO-ALLDAYEVENT:FALSE
SUMMARY:Montebello Lions Club Pancake Breakfast
DESCRIPTION:Montebello Lions - Pancake Breakfast Fundraiser\n\nAll Proceeds Benefit The Lions Club of Montebello Charities Foundation in serving our communities. \n\n\n\nDonate your: Used eyeglasses\, used cellphones\, gently used shoes - Drop off box at event.
X-ALT-DESC;FMTTYPE=text/html:Montebello Lions - Pancake Breakfast Fundraiser<br />\nAll Proceeds Benefit The Lions Club of Montebello Charities Foundation in serving our communities.&nbsp\;<br />\n<br />\nDonate your: Used eyeglasses\, used cellphones\, gently used shoes - Drop off box at event.&nbsp\;
LOCATION:Montebello Senior Citizen Center 115 S. Taylor Ave. Montebello\, CA 90640
UID:e.1156.3163
SEQUENCE:3
DTSTAMP:20260422T022731Z
URL:https://business.montebellochamber.org/events/details/montebello-lions-club-pancake-breakfast-3163
END:VEVENT

END:VCALENDAR
