BEGIN:VCALENDAR
VERSION:2.0
PRODID:-//ChamberMaster//Event Calendar 2.0//EN
METHOD:PUBLISH
X-PUBLISHED-TTL:P3D
REFRESH-INTERVAL:P3D
CALSCALE:GREGORIAN
BEGIN:VEVENT
DTSTART:20161022T160000Z
DTEND:20161022T220000Z
X-MICROSOFT-CDO-ALLDAYEVENT:FALSE
SUMMARY:Montebello Pet Fair
DESCRIPTION:An event for pet lovers. The goal of the Montebello Pet Fair is to provide education and resources for area pet owners. The date of the fair is Saturday October 22 from 9am to 3pm at Montebello City Park located at 1301 W Whittier Blvd in Montebello. This event is free to the public. Businesses and vendors interested in participating can email montebellopetfair@gmail.com. The cost for a space is $25 for all for profit businesses. Nonprofits receive their space for free. Please email us to confirm you are attending. montebellopetfair@gmail.com The fair includes: Spay/neuter clinic for 30 cats or dogs Vaccination clinic Microchip clinic Pet adoptions Activities for children Talks on topics like spay/neuter\, TNR\, dog bite prevention\, pet CPR and first aid\, and more. Confirmed Nonprofits as of 7/3/16: BnJ Husky Rescue Caring Friends Cat Rescue Dogs on Deployment Latino Alliance for Animal Care Foundation Spay Neuter Project of Los Angeles Kitty Bungalow Charm School for Wayward Cats Confirmed Businesses/Vendors as of 7/3/16: Alex Macia's Dog Training Cherished Paws Dott Dog Tag Feline Yogi Heaven N Hells Boneyard Mamitas Bows My Hamachi Designs Origami Owl Pet Care + - Sponsor Pet Fashionz - Sponsor Pet Prescription Savings Premium Creations - Sponsor Primal Canine L.A. VetCare Vielmas Rentals - Sponsor Wendy's Origami Confirmed Food Trucks as of 7/3/16: Pizza & Co. - Wood fire pizza Richeeze - grilled cheese and more Rice Balls of Fire - Sushi balls
X-ALT-DESC;FMTTYPE=text/html:An event for pet lovers. The goal of the Montebello Pet Fair is to provide education and resources for area pet owners. The date of the fair is Saturday October 22 from 9am to 3pm at Montebello City Park located at 1301 W Whittier Blvd in Montebello. This event is free to the public. Businesses and vendors interested in participating can email montebellopetfair@gmail.com. The cost for a space is $25 for all for profit businesses. Nonprofits receive their space for free. Please email us to confirm you are attending. montebellopetfair@gmail.com The fair includes: Spay/neuter clinic for 30 cats or dogs Vaccination clinic Microchip clinic Pet adoptions Activities for children Talks on topics like spay/neuter\, TNR\, dog bite prevention\, pet CPR and first aid\, and more. Confirmed Nonprofits as of 7/3/16: BnJ Husky Rescue Caring Friends Cat Rescue Dogs on Deployment Latino Alliance for Animal Care Foundation Spay Neuter Project of Los Angeles Kitty Bungalow Charm School for Wayward Cats Confirmed Businesses/Vendors as of 7/3/16: Alex Macia&#39\;s Dog Training Cherished Paws Dott Dog Tag Feline Yogi Heaven N Hells Boneyard Mamitas Bows My Hamachi Designs Origami Owl Pet Care + - Sponsor Pet Fashionz - Sponsor Pet Prescription Savings Premium Creations - Sponsor Primal Canine L.A. VetCare Vielmas Rentals - Sponsor Wendy&#39\;s Origami Confirmed Food Trucks as of 7/3/16: Pizza &amp\; Co. - Wood fire pizza Richeeze - grilled cheese and more Rice Balls of Fire - Sushi balls
LOCATION:Montebello City Park 1300 W Whittier Blvd Montebello\, CA 90640
UID:e.1156.1489
SEQUENCE:3
DTSTAMP:20260420T064020Z
URL:https://business.montebellochamber.org/events/details/montebello-pet-fair-10-22-2016-1489
END:VEVENT

END:VCALENDAR
