BEGIN:VCALENDAR
VERSION:2.0
PRODID:-//ChamberMaster//Event Calendar 2.0//EN
METHOD:PUBLISH
X-PUBLISHED-TTL:P3D
REFRESH-INTERVAL:P3D
CALSCALE:GREGORIAN
BEGIN:VEVENT
DTSTART:20191024T003000Z
DTEND:20191024T023000Z
X-MICROSOFT-CDO-ALLDAYEVENT:FALSE
SUMMARY:Moonlight Mingle
DESCRIPTION:323 Chamber Interchange Fall Moonlight Mingle brings together the Montebello\, East LA and Commerce Industrial Council Chambers of Commerce for appetizers\, drinks\, networking\, instructional poker tables and music.
X-ALT-DESC;FMTTYPE=text/html:323 Chamber Interchange Fall Moonlight Mingle brings together the Montebello\, East LA and Commerce Industrial Council Chambers of Commerce for appetizers\, drinks\, networking\, instructional poker tables and music.
LOCATION:DoubleTree by Hilton Los Angeles - Commerce 5757 Telegraph Road Commerce\, CA 90040
UID:e.1156.3461
SEQUENCE:3
DTSTAMP:20260422T125913Z
URL:https://business.montebellochamber.org/events/details/moonlight-mingle-3461
END:VEVENT

END:VCALENDAR
