BEGIN:VCALENDAR
VERSION:2.0
PRODID:-//ChamberMaster//Event Calendar 2.0//EN
METHOD:PUBLISH
X-PUBLISHED-TTL:P3D
REFRESH-INTERVAL:P3D
CALSCALE:GREGORIAN
BEGIN:VEVENT
DTSTART:20190911T150000Z
DTEND:20190911T163000Z
X-MICROSOFT-CDO-ALLDAYEVENT:FALSE
SUMMARY:Morning Mingle
DESCRIPTION:Join the members\, guests and staff of Montebello Chamber and Commerce Industrial Council for our 323 Chamber Interchange Morning Mingle Mixer!! \n\n\n\nGuest Chambers: South Gate Chamber and Greater Huntington Park Chamber of Commerce. \n\n\n\nNetwork with 4 Chambers over a delicious full breakfast and drop in your business card for a chance to win raffle prizes!
X-ALT-DESC;FMTTYPE=text/html:Join the members\, guests and staff of Montebello Chamber and Commerce Industrial Council for our 323 Chamber Interchange Morning Mingle Mixer!!&nbsp\;<br />\n<br />\nGuest Chambers: South Gate Chamber and Greater Huntington Park Chamber of Commerce.&nbsp\;<br />\n<br />\nNetwork with 4 Chambers over a delicious full breakfast and drop in your business card for a chance to win raffle prizes!<br />\n<br />\n<br />\n<br />\n&nbsp\;
LOCATION:Bicycle Hotel and Casino 888 Bicycle Casino Drive Bell Gardens\, CA 90201
UID:e.1156.3415
SEQUENCE:3
DTSTAMP:20260422T113529Z
URL:https://business.montebellochamber.org/events/details/morning-mingle-3415
END:VEVENT

END:VCALENDAR
