BEGIN:VCALENDAR
VERSION:2.0
PRODID:-//ChamberMaster//Event Calendar 2.0//EN
METHOD:PUBLISH
X-PUBLISHED-TTL:P3D
REFRESH-INTERVAL:P3D
CALSCALE:GREGORIAN
BEGIN:VEVENT
DTSTART:20200312T150000Z
DTEND:20200312T163000Z
X-MICROSOFT-CDO-ALLDAYEVENT:FALSE
SUMMARY:Morning Mingle
DESCRIPTION:Join Montebello Chamber and Commerce Industrial Council for our 323 Chamber Interchange Morning Mingle!  Network with 2 Chambers over coffee and breakfast!\n\n\n\nHosted by:  DoubleTree by Hilton Hotel Los Angeles - Commerce
X-ALT-DESC;FMTTYPE=text/html:Join Montebello Chamber and Commerce Industrial Council for our 323 Chamber Interchange Morning Mingle!&nbsp\; Network with 2 Chambers over coffee and breakfast!<br />\n<br />\nHosted by:&nbsp\; DoubleTree by Hilton Hotel Los Angeles - Commerce
LOCATION:DoubleTree by Hilton Hotel Los Angeles - Commerce (Citadel Outlets) 5757 Telegraph Rd. Commerce\, CA 90040
UID:e.1156.3623
SEQUENCE:3
DTSTAMP:20260422T202015Z
URL:https://business.montebellochamber.org/events/details/morning-mingle-3623
END:VEVENT

END:VCALENDAR
