BEGIN:VCALENDAR
VERSION:2.0
PRODID:-//ChamberMaster//Event Calendar 2.0//EN
METHOD:PUBLISH
X-PUBLISHED-TTL:P3D
REFRESH-INTERVAL:P3D
CALSCALE:GREGORIAN
BEGIN:VEVENT
DTSTART:20200314T000000Z
DTEND:20200314T060000Z
X-MICROSOFT-CDO-ALLDAYEVENT:FALSE
SUMMARY:Nacho Culture at Angry Horse Brewing
DESCRIPTION:Nachos & beer\, sounds good to us!\n\n\n\nCheck out Nacho Culture Saturday March 14th. They will be popping up at the taproom at 5pm. Grab a plate of their Mexican nachos or try one of their other unique nacho recipes!\n\n\n\nWe'll have DJ Selek D'Funk bringing us a live DJ set on vinyl starting at 8pm.
X-ALT-DESC;FMTTYPE=text/html:<span>Nachos &amp\; beer\, sounds good to us!<br />\n<br />\nCheck out <a href="https://www.facebook.com/nachoculture/" target="_blank">Nacho Culture</a> Saturday March 14th. They will be popping up at the taproom at 5pm. Grab a plate of their Mexican nachos or try one of their other unique nacho recipes!<br />\n<br />\nWe&#39\;ll have DJ Selek D&#39\;Funk bringing us a live DJ set on vinyl starting at 8pm.</span>
LOCATION:Angry Horse Brewing 603 W. Whittier Blvd. Montebello\, CA 90640
UID:e.1156.3652
SEQUENCE:3
DTSTAMP:20260422T190355Z
URL:https://business.montebellochamber.org/events/details/nacho-culture-at-angry-horse-brewing-3652
END:VEVENT

END:VCALENDAR
