BEGIN:VCALENDAR
VERSION:2.0
PRODID:-//ChamberMaster//Event Calendar 2.0//EN
METHOD:PUBLISH
X-PUBLISHED-TTL:P3D
REFRESH-INTERVAL:P3D
CALSCALE:GREGORIAN
BEGIN:VEVENT
DTSTART:20151014T143000Z
DTEND:20151014T163000Z
X-MICROSOFT-CDO-ALLDAYEVENT:FALSE
SUMMARY:Networking Breakfast 3.0 - Beverly Hospital
DESCRIPTION:Networking Breakfast 3.0\n\nCome and give your morning a boost and join the Montebello\, Commerce and Pico Rivera chambers!
X-ALT-DESC;FMTTYPE=text/html:<strong>Networking Breakfast 3.0<br />\nCome and give your morning a boost and join the </strong><strong>Mon</strong><strong>tebello</strong><strong>\, Commerce and Pico Rivera chambers!</strong><br />\n<br />\n<br />\n&nbsp\;
LOCATION:Beverly Hospital 309 W. Beverly Hospital Montebello\, CA (Enter at main entrance on Harding\, then take the elevators to the Basement and follow the signs to the meeting room)
UID:e.1156.1422
SEQUENCE:3
DTSTAMP:20260419T124509Z
URL:https://business.montebellochamber.org/events/details/networking-breakfast-3-0-beverly-hospital-10-14-2015-1422
END:VEVENT

END:VCALENDAR
