BEGIN:VCALENDAR
VERSION:2.0
PRODID:-//ChamberMaster//Event Calendar 2.0//EN
METHOD:PUBLISH
X-PUBLISHED-TTL:P3D
REFRESH-INTERVAL:P3D
CALSCALE:GREGORIAN
BEGIN:VEVENT
DTSTART:20160713T143000Z
DTEND:20160713T163000Z
X-MICROSOFT-CDO-ALLDAYEVENT:FALSE
SUMMARY:Networking Breakfast 3.0 - Doubletree Commerce
DESCRIPTION:Networking Breakfast 3.0 with Montebello Chamber of Commerce\, Commerce Industrial Council and the Latin Business Association
X-ALT-DESC;FMTTYPE=text/html:Networking Breakfast 3.0 with Montebello Chamber of Commerce\, Commerce Industrial Council and the Latin Business Association
LOCATION:DoubleTree by Hilton 5757 Telegraph Road Commerce\, CA 90040
UID:e.1156.1487
SEQUENCE:3
DTSTAMP:20260420T022444Z
URL:https://business.montebellochamber.org/events/details/networking-breakfast-3-0-doubletree-commerce-07-13-2016-1487
END:VEVENT

END:VCALENDAR
