BEGIN:VCALENDAR
VERSION:2.0
PRODID:-//ChamberMaster//Event Calendar 2.0//EN
METHOD:PUBLISH
X-PUBLISHED-TTL:P3D
REFRESH-INTERVAL:P3D
CALSCALE:GREGORIAN
BEGIN:VEVENT
DTSTART:20160511T143000Z
DTEND:20160511T163000Z
X-MICROSOFT-CDO-ALLDAYEVENT:FALSE
SUMMARY:Networking Breakfast - BJ's Restaurant
DESCRIPTION:Join the Montebello Chamber of Commerce and the Commerce Industrial Council Chamber of Commerce for our May Networking Breakfast!\n\nHosted by: BJ's Restaurant\n\nFood Sponsor: The Shops at Montebello
X-ALT-DESC;FMTTYPE=text/html:Join the Montebello Chamber of Commerce and the Commerce Industrial Council Chamber of Commerce for our May Networking Breakfast!<br />\n<strong>Hosted by: BJ&#39\;s Restaurant</strong><br />\n<strong>Food Sponsor: The Shops at Montebello</strong>
LOCATION:BJ's Restaurant 1716 Montebello Town Center Montebello\, CA 90640 (323) 201-5290
UID:e.1156.1475
SEQUENCE:3
DTSTAMP:20260419T231221Z
URL:https://business.montebellochamber.org/events/details/networking-breakfast-bj-s-restaurant-05-11-2016-1475
END:VEVENT

END:VCALENDAR
