BEGIN:VCALENDAR
VERSION:2.0
PRODID:-//ChamberMaster//Event Calendar 2.0//EN
METHOD:PUBLISH
X-PUBLISHED-TTL:P3D
REFRESH-INTERVAL:P3D
CALSCALE:GREGORIAN
BEGIN:VEVENT
DTSTART:20190929T000000Z
DTEND:20190929T050000Z
X-MICROSOFT-CDO-ALLDAYEVENT:FALSE
SUMMARY:Oktoberfest at Sanchez Adobe
DESCRIPTION:3rd Annual Fundraiser...The Montebello Historical Society presents Oktoberfest at the Adobe!!!\n\n-Beer Garden        -Family Friendly\n\n-Festive Food        -Games\n\n-Music by DJ ish\n\n\n\n\n\n\n\n21+ only Annual Fundraiser\n\nCraft beer provided by Angry Horse Brewing\n\nFood available for purchase\n\nAll proceeds will go to the Adobe's revitalization
X-ALT-DESC;FMTTYPE=text/html:3rd Annual Fundraiser...The Montebello Historical Society presents <em>Oktoberfest at the Adobe!!!</em><br />\n-Beer Garden&nbsp\;&nbsp\;&nbsp\;&nbsp\;&nbsp\; &nbsp\; -Family Friendly<br />\n-Festive Food&nbsp\;&nbsp\;&nbsp\;&nbsp\;&nbsp\; &nbsp\; -Games<br />\n-Music by DJ ish<br />\n<br />\n<br />\n<br />\n21+ only Annual Fundraiser<br />\nCraft beer provided by Angry Horse Brewing<br />\nFood available for purchase<br />\nAll proceeds will go to the Adobe&#39\;s revitalization
LOCATION:Juan Matias Sanchez Adobe Museum & Historical Site 946 N. Adobe Ave. Montebello\, CA 90640
UID:e.1156.3363
SEQUENCE:3
DTSTAMP:20260422T102006Z
URL:https://business.montebellochamber.org/events/details/oktoberfest-at-sanchez-adobe-3363
END:VEVENT

END:VCALENDAR
