BEGIN:VCALENDAR
VERSION:2.0
PRODID:-//ChamberMaster//Event Calendar 2.0//EN
METHOD:PUBLISH
X-PUBLISHED-TTL:P3D
REFRESH-INTERVAL:P3D
CALSCALE:GREGORIAN
BEGIN:VEVENT
DTSTART;VALUE=DATE:20190921
DTEND;VALUE=DATE:20190922
TRANSP:TRANSPARENT
X-MICROSOFT-CDO-ALLDAYEVENT:TRUE
SUMMARY:Open House for Montebello Lions Club
DESCRIPTION:The Lions Club of Montebello is seeking civic-minded men and women to join them in making a difference in the community. The club is hosting an Open House on September 24\, 2019 for people who want to learn more about the club and its work.  A light dinner will be served upon arrival. \n\n\n\nSome of the Club's Service Projects Include:\n\nVision Care for all Montebello Schools\n\nBack-to-School Shopping Spree for needy kids\n\nThanksgiving Food Baskets\n\nPeace Poster Contest for Middle Schools\n\nScholarships for High School Seniors\n\nPatriotic Flag Day Program\n\nSponsoring Scout Troops\n\nMemorial and Veterans Day Program\n\nAdopt-a-Family  \n\nStudent Speakers Contest for High Schools
X-ALT-DESC;FMTTYPE=text/html:<span style="font-family:times new roman\,serif\;"><span style="font-size:12.0pt\;">The Lions Club of Montebello is seeking civic-minded men and women to join them in making a difference in the community. The club is hosting an Open House on September 24\, 2019 for people who want to learn more about the club and its work.&nbsp\; A light dinner will be served upon arrival. </span></span><br />\n<br />\n<span style="font-size:12px\;"><strong><u><span style="font-family:arial\,sans-serif\;">Some of the Club&#39\;s Service Projects Include:</span></u></strong><br />\n<strong><span style="font-family:arial\,sans-serif\;">Vision Care for all Montebello Schools</span></strong><br />\n<strong><span style="font-family:arial\,sans-serif\;">Back-to-School Shopping Spree for needy kids</span></strong><br />\n<strong><span style="font-family:arial\,sans-serif\;">Thanksgiving Food Baskets</span></strong><br />\n<strong><span style="font-family:arial\,sans-serif\;">Peace Poster Contest for Middle Schools</span></strong><br />\n<strong><span style="font-family:arial\,sans-serif\;">Scholarships for High School Seniors</span></strong><br />\n<strong><span style="font-family:arial\,sans-serif\;">Patriotic Flag Day Program</span></strong><br />\n<strong><span style="font-family:arial\,sans-serif\;">Sponsoring Scout Troops</span></strong><br />\n<strong><span style="font-family:arial\,sans-serif\;">Memorial and Veterans Day Program</span></strong><br />\n<strong><span style="font-family:arial\,sans-serif\;">Adopt-a-Family&nbsp\; </span></strong><br />\n<strong><span style="font-family:arial\,sans-serif\;">Student Speakers Contest for High Schools</span></strong></span><br />\n&nbsp\;
LOCATION:Montebello Senior Center 115 South Taylor Avenue Montebello\, CA 90640
UID:e.1156.3397
SEQUENCE:3
DTSTAMP:20260422T102318Z
URL:https://business.montebellochamber.org/events/details/open-house-for-montebello-lions-club-3397
END:VEVENT

END:VCALENDAR
