BEGIN:VCALENDAR
VERSION:2.0
PRODID:-//ChamberMaster//Event Calendar 2.0//EN
METHOD:PUBLISH
X-PUBLISHED-TTL:P3D
REFRESH-INTERVAL:P3D
CALSCALE:GREGORIAN
BEGIN:VEVENT
DTSTART:20200308T223000Z
DTEND:20200308T233000Z
X-MICROSOFT-CDO-ALLDAYEVENT:FALSE
SUMMARY:Paint & Sip
DESCRIPTION:Join The Shops at Montebello on International Women's Day to Paint & Sip\, a benefit for Montebello Soroptimist\, on Sunday\, March 8th from 2:30-4:30pm in Center Court.\n\nA $25 donation gets you access to paint\, wine and a flower crown. The afternoon will also feature special appearances in honor of International Women's Day.
X-ALT-DESC;FMTTYPE=text/html:<p>Join The Shops at Montebello on International Women&#39\;s Day to Paint &amp\; Sip\, a benefit for Montebello Soroptimist\, on Sunday\, March 8th from 2:30-4:30pm in Center Court.</p>\n\n<p>A $25 donation gets you access to paint\, wine and a flower crown. The afternoon will also feature special appearances in honor of International Women&#39\;s Day.</p>\n
LOCATION:The Shops at Montebello - Center Court 2134 Town Center Drive Montebello\, CA 90640
UID:e.1156.3640
SEQUENCE:3
DTSTAMP:20260422T190028Z
URL:https://business.montebellochamber.org/events/details/paint-sip-3640
END:VEVENT

END:VCALENDAR
