BEGIN:VCALENDAR
VERSION:2.0
PRODID:-//ChamberMaster//Event Calendar 2.0//EN
METHOD:PUBLISH
X-PUBLISHED-TTL:P3D
REFRESH-INTERVAL:P3D
CALSCALE:GREGORIAN
BEGIN:VEVENT
DTSTART:20190915T150000Z
DTEND:20190915T170000Z
X-MICROSOFT-CDO-ALLDAYEVENT:FALSE
SUMMARY:Pancake Breakfast Fundraiser for Whittier First Day
DESCRIPTION:Whittier First Day will have a Pancake Breakfast Event Fundraiser at Applebee's Grill in Montebello.\n \n\nBreakfast includes pancakes\, syrup\, butter\, scrambled eggs\, sausage\, potatoes\, orange juice\, and coffee.  Funds raised will support homeless and at-risk individuals to transition toward self-sufficiency.
X-ALT-DESC;FMTTYPE=text/html:<span style="color:#1F497D\;">Whittier First Day will have a Pancake Breakfast Event Fundraiser at Applebee&#39\;s Grill in Montebello.</span>\n<p style="font-size:11pt\;font-family:Calibri\,sans-serif\;margin:0\;"><span style="color:#1F497D\;">&nbsp\;</span></p>\n\n<p style="font-size:11pt\;font-family:Calibri\,sans-serif\;margin:0\;"><span style="color:#1F497D\;">Breakfast includes pancakes\, syrup\, butter\, scrambled eggs\, sausage\, potatoes\, orange juice\, and coffee.&nbsp\; Funds raised will support homeless and at-risk individuals to transition toward self-sufficiency.</span><br />\n&nbsp\;</p>\n
LOCATION:Applebee's Grill 1493 N. Montebello Blvd. Montebello\, CA 90640
UID:e.1156.3430
SEQUENCE:3
DTSTAMP:20260422T113728Z
URL:https://business.montebellochamber.org/events/details/pancake-breakfast-fundraiser-for-whittier-first-day-3430
END:VEVENT

END:VCALENDAR
