BEGIN:VCALENDAR
VERSION:2.0
PRODID:-//ChamberMaster//Event Calendar 2.0//EN
METHOD:PUBLISH
X-PUBLISHED-TTL:P3D
REFRESH-INTERVAL:P3D
CALSCALE:GREGORIAN
BEGIN:VEVENT
DTSTART:20190519T000000Z
DTEND:20190519T050000Z
X-MICROSOFT-CDO-ALLDAYEVENT:FALSE
SUMMARY:Pizza Night @ Angry Horse Brewing
DESCRIPTION:It's pizza night at the taproom! Our friends\, The Home Slice Pizza will be parked up at the taproom. Haven't tried them? They make wood-fire personal pizzas and have vegan and lactose options! Their menu rotates monthly.\n\n\n\nThey'll be serving until they sell out.
X-ALT-DESC;FMTTYPE=text/html:<span>It&#39\;s pizza night at the taproom! Our friends\, <a href="https://www.facebook.com/LAhomeslice/" target="_blank">The Home Slice Pizza</a> will be parked up at the taproom. Haven&#39\;t tried them? They make wood-fire personal pizzas and have vegan and lactose options! Their menu rotates monthly.<br />\n<br />\nThey&#39\;ll be serving until they sell out.</span>
LOCATION:Angry Horse Brewing 603 W. Whittier Blvd. Montebello\, CA 90640
UID:e.1156.3319
SEQUENCE:3
DTSTAMP:20260422T050840Z
URL:https://business.montebellochamber.org/events/details/pizza-night-angry-horse-brewing-3319
END:VEVENT

END:VCALENDAR
