BEGIN:VCALENDAR
VERSION:2.0
PRODID:-//ChamberMaster//Event Calendar 2.0//EN
METHOD:PUBLISH
X-PUBLISHED-TTL:P3D
REFRESH-INTERVAL:P3D
CALSCALE:GREGORIAN
BEGIN:VEVENT
DTSTART:20151209T190000Z
DTEND:20151209T220000Z
X-MICROSOFT-CDO-ALLDAYEVENT:FALSE
SUMMARY:Police Chief Holiday Lunch & Toydrive
DESCRIPTION:Police Chief McClure hosts\n\nHoliday Lunch and Toy Drive\n\nTickets Available from Committee Members:\n\nJanine Andrade - Soroptimists\n\nJerry Banuelos - Lions Club\n\nDiana Cisneros - Montebello Police Dept.\n\nDenise Hagopian - Rotary\n\nSteve Manookian - Montebello Batting Cages\n\nMake Checks Payable to: Montebello Police Explorers
X-ALT-DESC;FMTTYPE=text/html:<strong>Police Chief McClure hosts<br />\nHoliday Lunch and Toy Drive<br />\nTickets Available from Committee Members:<br />\nJanine Andrade - Soroptimists<br />\nJerry Banuelos - Lions Club<br />\nDiana Cisneros - Montebello Police Dept.<br />\nDenise Hagopian - Rotary<br />\nSteve Manookian - Montebello Batting Cages<br />\nMake Checks Payable to: Montebello Police Explorers</strong>
LOCATION:Montebello Senior Center 115 S. Taylor Ave. Montebello\, CA
UID:e.1156.1433
SEQUENCE:3
DTSTAMP:20260419T154150Z
URL:https://business.montebellochamber.org/events/details/police-chief-holiday-lunch-toydrive-12-09-2015-1433
END:VEVENT

END:VCALENDAR
