BEGIN:VCALENDAR
VERSION:2.0
PRODID:-//ChamberMaster//Event Calendar 2.0//EN
METHOD:PUBLISH
X-PUBLISHED-TTL:P3D
REFRESH-INTERVAL:P3D
CALSCALE:GREGORIAN
BEGIN:VEVENT
DTSTART:20201024T010000Z
DTEND:20201024T040000Z
X-MICROSOFT-CDO-ALLDAYEVENT:FALSE
SUMMARY:POSTPONED: 12th Annual Taste of the Town
DESCRIPTION:THIS EVENT IS BEING POSTPONED DUE TO COVID-19.  A NEW DATE AND/OR FORMAT WILL BE ANNOUNCED SOON.\n\n\n\nThe Montebello Chamber of Commerce presents its\n\n12th Annual Taste of the Town\n\n\n\nDiscover local restaurants\, bakeries\, wineries\, breweries and more at this indoor event at the elegant Bagramian Hall.  More information coming soon!
X-ALT-DESC;FMTTYPE=text/html:<strong><span style="color:#FF0000\;">THIS EVENT IS BEING POSTPONED DUE TO COVID-19.&nbsp\; A NEW DATE AND/OR FORMAT WILL BE ANNOUNCED SOON.</span></strong><br />\n<br />\nThe Montebello Chamber of Commerce presents its<br />\n12th Annual Taste of the Town<br />\n<br />\nDiscover local restaurants\, bakeries\, wineries\, breweries and more at this indoor event at the elegant Bagramian Hall.&nbsp\; More information coming soon!<br />\n<br />\n&nbsp\;
LOCATION:Bagramian Hall (adjacent to Holy Cross Cathedral) 900 W. Lincoln Avenue Montebello\, CA 90640
UID:e.1156.3533
SEQUENCE:3
DTSTAMP:20260423T040945Z
URL:https://business.montebellochamber.org/events/details/postponed-12th-annual-taste-of-the-town-3533
END:VEVENT

END:VCALENDAR
