BEGIN:VCALENDAR
VERSION:2.0
PRODID:-//ChamberMaster//Event Calendar 2.0//EN
METHOD:PUBLISH
X-PUBLISHED-TTL:P3D
REFRESH-INTERVAL:P3D
CALSCALE:GREGORIAN
BEGIN:VEVENT
DTSTART;VALUE=DATE:20200606
DTEND;VALUE=DATE:20200607
TRANSP:TRANSPARENT
X-MICROSOFT-CDO-ALLDAYEVENT:TRUE
SUMMARY:POSTPONED: Beverly Hospital Foundation Paradise Ball 2020
DESCRIPTION:Paradise Ball 2020\n\nPlease Join Us!\n\nHonoring Joseph Koo and Dr. Helen Koo\n\nDancing Entertainment Featuring Blue Note Swing Orchestra\n\nsemi-formal attire encouraged \n\nRSVP on our website at www.beverly.org by May 29\, 2020
X-ALT-DESC;FMTTYPE=text/html:Paradise Ball 2020<br />\nPlease Join Us!<br />\nHonoring Joseph Koo and Dr. Helen Koo<br />\nDancing Entertainment Featuring Blue Note Swing Orchestra<br />\nsemi-formal attire encouraged&nbsp\;<br />\nRSVP on our website at www.beverly.org by May 29\, 2020&nbsp\;<br />\n&nbsp\;
LOCATION:Sheraton Los Angeles San Gabriel 303 East Valley Boulevard\, San Gabriel\, CA 91776
UID:e.1156.3636
SEQUENCE:3
DTSTAMP:20260422T225020Z
URL:https://business.montebellochamber.org/events/details/postponed-beverly-hospital-foundation-paradise-ball-2020-3636
END:VEVENT

END:VCALENDAR
