BEGIN:VCALENDAR
VERSION:2.0
PRODID:-//ChamberMaster//Event Calendar 2.0//EN
METHOD:PUBLISH
X-PUBLISHED-TTL:P3D
REFRESH-INTERVAL:P3D
CALSCALE:GREGORIAN
BEGIN:VEVENT
DTSTART:20200318T180000Z
DTEND:20200318T190000Z
X-MICROSOFT-CDO-ALLDAYEVENT:FALSE
SUMMARY:POSTPONED: Dedication of Jose Ramos Post Office
DESCRIPTION:THIS EVENT HAS BEEN POSTPONED IN RESPONSE TO COVID-19 & PUBLIC HEALTH SAFETY CONCERNS\n\n\n\nThe Whittier Post Office will be dedicated as the Jose Ramos Post Office in a formal ceremony on March 18\, 2020. Sergeant Jose Ramos\, a Purple Heart honoree\, was a tireless advocate for Vietnam veterans and helped to establish the Welcome Home Vietnam Day organization.\n\nCongresswoman S nchez introduced legislation to rename the Post Office after Jose Ramos and the bill was signed into Public Law on December 13\, 2019.
X-ALT-DESC;FMTTYPE=text/html:<span style="color:#FF0000\;"><strong>THIS EVENT HAS BEEN POSTPONED IN RESPONSE TO COVID-19 &amp\; PUBLIC HEALTH SAFETY CONCERNS</strong></span><br />\n<br />\nThe Whittier Post Office will be dedicated as the Jose Ramos Post Office in a formal ceremony on March 18\, 2020. Sergeant Jose Ramos\, a Purple Heart honoree\, was a tireless advocate for Vietnam veterans and helped to establish the Welcome Home Vietnam Day organization.<br />\nCongresswoman S&aacute\;nchez introduced legislation to rename the Post Office after Jose Ramos and the bill was signed into Public Law on December 13\, 2019.
LOCATION:The event will be held at Whittier Post Office 8520 Michigan Ave\, Whittier\, CA 90605
UID:e.1156.3637
SEQUENCE:3
DTSTAMP:20260422T190644Z
URL:https://business.montebellochamber.org/events/details/postponed-dedication-of-jose-ramos-post-office-3637
END:VEVENT

END:VCALENDAR
