BEGIN:VCALENDAR
VERSION:2.0
PRODID:-//ChamberMaster//Event Calendar 2.0//EN
METHOD:PUBLISH
X-PUBLISHED-TTL:P3D
REFRESH-INTERVAL:P3D
CALSCALE:GREGORIAN
BEGIN:VEVENT
DTSTART:20200328T180000Z
DTEND:20200328T210000Z
X-MICROSOFT-CDO-ALLDAYEVENT:FALSE
SUMMARY:POSTPONED-Virtue Hearing Aid Center 5th Anniversary Celebration
DESCRIPTION:Join Virtue Hearing Aid Center in celebration of their 5th Year Anniversary!
X-ALT-DESC;FMTTYPE=text/html:Join Virtue Hearing Aid Center in celebration of their 5th Year Anniversary!
LOCATION:Virtue Hearing Aid Center 134 S. Montebello Blvd. Montebello\, CA 90640
UID:e.1156.3646
SEQUENCE:3
DTSTAMP:20260422T190329Z
URL:https://business.montebellochamber.org/events/details/postponed-virtue-hearing-aid-center-5th-anniversary-celebration-3646
END:VEVENT

END:VCALENDAR
