BEGIN:VCALENDAR
VERSION:2.0
PRODID:-//ChamberMaster//Event Calendar 2.0//EN
METHOD:PUBLISH
X-PUBLISHED-TTL:P3D
REFRESH-INTERVAL:P3D
CALSCALE:GREGORIAN
BEGIN:VEVENT
DTSTART:20201121T200000Z
DTEND:20201122T000000Z
X-MICROSOFT-CDO-ALLDAYEVENT:FALSE
SUMMARY:PPE-UP at BLVD MRKT
DESCRIPTION:BLVD MRKT is excited to announce their first mobile "PPE-UP" at their location in Montebello! They will be giving away FREE PPE for small businesses but you must sign up for a time at www.ppeunite.org. Saturday\, November 21st from 12 pm-4 pm. Supplies are limited so sign up and book a time!
X-ALT-DESC;FMTTYPE=text/html:BLVD MRKT is excited to announce their first mobile &quot\;PPE-UP&quot\; at their location in Montebello! They will be giving away FREE PPE for small businesses but you must sign up for a time at <a href="http://www.ppeunite.org">www.ppeunite.org</a>. Saturday\, November 21st from 12 pm-4 pm. Supplies are limited so sign up and book a time!
LOCATION:Please sign up for a time www.ppeunite.org 520 Whittier Blvd\, Montebello California
UID:e.1156.3800
SEQUENCE:3
DTSTAMP:20260423T053432Z
URL:https://business.montebellochamber.org/events/details/ppe-up-at-blvd-mrkt-3800
END:VEVENT

END:VCALENDAR
