BEGIN:VCALENDAR
VERSION:2.0
PRODID:-//ChamberMaster//Event Calendar 2.0//EN
METHOD:PUBLISH
X-PUBLISHED-TTL:P3D
REFRESH-INTERVAL:P3D
CALSCALE:GREGORIAN
BEGIN:VEVENT
DTSTART:20190929T180000Z
DTEND:20190929T230000Z
X-MICROSOFT-CDO-ALLDAYEVENT:FALSE
SUMMARY:Quinceanera Expo
DESCRIPTION:Crowne Plaza Los Angeles Commerce Casino presents\n\nQuinceanera Expo
X-ALT-DESC;FMTTYPE=text/html:Crowne Plaza Los Angeles Commerce Casino presents<br />\nQuinceanera Expo
LOCATION:Crowne Plaza Los Angeles - Commerce Casino 6121 E. Telegraph Rd. Commerce\, CA
UID:e.1156.3392
SEQUENCE:3
DTSTAMP:20260422T102051Z
URL:https://business.montebellochamber.org/events/details/quinceanera-expo-3392
END:VEVENT

END:VCALENDAR
