BEGIN:VCALENDAR
VERSION:2.0
PRODID:-//ChamberMaster//Event Calendar 2.0//EN
METHOD:PUBLISH
X-PUBLISHED-TTL:P3D
REFRESH-INTERVAL:P3D
CALSCALE:GREGORIAN
BEGIN:VEVENT
DTSTART:20151024T180000Z
DTEND:20151024T200000Z
X-MICROSOFT-CDO-ALLDAYEVENT:FALSE
SUMMARY:Ribbon Cutting - Clinica Medica San Miguel
DESCRIPTION:Please join us for the Ribbon Cutting Ceremony of\n\nClinica Medica San Miguel
X-ALT-DESC;FMTTYPE=text/html:<strong>Please join us for the Ribbon Cutting Ceremony of<br />\nClinica Medica San Miguel</strong><br />\n&nbsp\;
LOCATION:Clinica Medica San Miguel 2248 W. Beverly Blvd. Montebello\, CA 90640
UID:e.1156.1427
SEQUENCE:3
DTSTAMP:20260419T142157Z
URL:https://business.montebellochamber.org/events/details/ribbon-cutting-clinica-medica-san-miguel-10-24-2015-1427
END:VEVENT

END:VCALENDAR
