BEGIN:VCALENDAR
VERSION:2.0
PRODID:-//ChamberMaster//Event Calendar 2.0//EN
METHOD:PUBLISH
X-PUBLISHED-TTL:P3D
REFRESH-INTERVAL:P3D
CALSCALE:GREGORIAN
BEGIN:VEVENT
DTSTART:20151022T190000Z
DTEND:20151022T203000Z
X-MICROSOFT-CDO-ALLDAYEVENT:FALSE
SUMMARY:Ribbon Cutting - Ecologica Organic Spa
DESCRIPTION:Please join us for the Ribbon Cutting Ceremony of \n\nEcologica Organic Spa
X-ALT-DESC;FMTTYPE=text/html:<strong>Please join us for the Ribbon Cutting Ceremony of </strong><br />\n<strong>Ecologica Organic Spa</strong><br />\n<br />\n&nbsp\;
LOCATION:Ecologica Spa 1408 Whittier Blvd. Montebello\, CA 90640
UID:e.1156.1426
SEQUENCE:3
DTSTAMP:20260419T124800Z
URL:https://business.montebellochamber.org/events/details/ribbon-cutting-ecologica-organic-spa-10-22-2015-1426
END:VEVENT

END:VCALENDAR
