BEGIN:VCALENDAR
VERSION:2.0
PRODID:-//ChamberMaster//Event Calendar 2.0//EN
METHOD:PUBLISH
X-PUBLISHED-TTL:P3D
REFRESH-INTERVAL:P3D
CALSCALE:GREGORIAN
BEGIN:VEVENT
DTSTART:20200220T200000Z
DTEND:20200220T213000Z
X-MICROSOFT-CDO-ALLDAYEVENT:FALSE
SUMMARY:Ribbon Cutting for 5 Star Film Locations\, Inc.
DESCRIPTION:Ribbon Cutting ceremony at 5 Star Film Locations\, Inc..\n\nPlease join us to help celebrate our new member and network with other chamber members while building relationships.\n\n\n\n*Exclusive for chamber members
X-ALT-DESC;FMTTYPE=text/html:Ribbon Cutting ceremony at 5 Star Film Locations\, Inc..<br />\nPlease join us to help celebrate our new member and network with other chamber members while building relationships.<br />\n<br />\n*Exclusive for chamber members
LOCATION:5 Star Film Locations\, Inc. 491 West Washington Blvd. Montebello\, CA 90640
UID:e.1156.3581
SEQUENCE:3
DTSTAMP:20260422T175142Z
URL:https://business.montebellochamber.org/events/details/ribbon-cutting-for-5-star-film-locations-inc-3581
END:VEVENT

END:VCALENDAR
