BEGIN:VCALENDAR
VERSION:2.0
PRODID:-//ChamberMaster//Event Calendar 2.0//EN
METHOD:PUBLISH
X-PUBLISHED-TTL:P3D
REFRESH-INTERVAL:P3D
CALSCALE:GREGORIAN
BEGIN:VEVENT
DTSTART:20191022T170000Z
DTEND:20191022T173000Z
X-MICROSOFT-CDO-ALLDAYEVENT:FALSE
SUMMARY:Ribbon Cutting: LK Health Clinic
DESCRIPTION:The public is invited to a ribbon-cutting at 10:00 a.m. on October 22 to mark the launch of a comprehensive anti-tobacco campaign among staff and patients at the non-profit clinic. The facility serves about 4\,000 patients in underserved neighborhoods in East Los Angeles\, Metro Los Angeles\, and the San Gabriel Valley.
X-ALT-DESC;FMTTYPE=text/html:<span style="color:black\;"><span style="font-family:calibri\,sans-serif\;">The public is invited to a ribbon-cutting at 10:00 a.m. on October 22 to mark the launch of a comprehensive anti-tobacco campaign among staff and patients at the non-profit clinic. The facility </span></span><span style="color:#1B1B1B\;"><span style="font-family:calibri\,sans-serif\;">serves about 4\,000 patients in underserved neighborhoods in East Los Angeles\, Metro Los Angeles\, and the San Gabriel Valley.</span></span><br />\n&nbsp\;
LOCATION:LK Health (Back parking lot) 901 W. Whittier Blvd. Montebello\, CA 90640
UID:e.1156.3456
SEQUENCE:3
DTSTAMP:20260422T130449Z
URL:https://business.montebellochamber.org/events/details/ribbon-cutting-lk-health-clinic-3456
END:VEVENT

END:VCALENDAR
