BEGIN:VCALENDAR
VERSION:2.0
PRODID:-//ChamberMaster//Event Calendar 2.0//EN
METHOD:PUBLISH
X-PUBLISHED-TTL:P3D
REFRESH-INTERVAL:P3D
CALSCALE:GREGORIAN
BEGIN:VEVENT
DTSTART:20200615T160000Z
DTEND:20200615T233000Z
X-MICROSOFT-CDO-ALLDAYEVENT:FALSE
SUMMARY:Schurr High School Drive thru 2020 Graduation!
DESCRIPTION:Montebello Unified School District-Schurr High School Drive Thru 2020 Graduation!
X-ALT-DESC;FMTTYPE=text/html:Montebello Unified School District-Schurr High School Drive Thru 2020 Graduation!
LOCATION:Schurr High School 820 N. Wilcox Ave. Montebello\, CA 90640
UID:e.1156.3707
SEQUENCE:3
DTSTAMP:20260422T224856Z
URL:https://business.montebellochamber.org/events/details/schurr-high-school-drive-thru-2020-graduation-3707
END:VEVENT

END:VCALENDAR
