BEGIN:VCALENDAR
VERSION:2.0
PRODID:-//ChamberMaster//Event Calendar 2.0//EN
METHOD:PUBLISH
X-PUBLISHED-TTL:P3D
REFRESH-INTERVAL:P3D
CALSCALE:GREGORIAN
BEGIN:VEVENT
DTSTART:20190331T180000Z
DTEND:20190331T220000Z
X-MICROSOFT-CDO-ALLDAYEVENT:FALSE
SUMMARY:Soroptimist Fashion Show Extravaganza & Luncheon
DESCRIPTION:Soroptimist International of Montebello Presents\n\nMardi Gras Fashion Show Extravaganza and Luncheon\n\n\n\nFashions - Lunch - Give Aways - Raffles - Vendors\n\nFashions by L & M Fashions\n\nProceeds will go to our scholarships and programs
X-ALT-DESC;FMTTYPE=text/html:Soroptimist International of Montebello Presents<br />\nMardi Gras Fashion Show Extravaganza and Luncheon<br />\n<br />\nFashions - Lunch - Give Aways - Raffles - Vendors<br />\nFashions by L &amp\; M Fashions<br />\nProceeds will go to our scholarships and programs
LOCATION:DoubleTree by Hilton 888 Montebello Blvd. Rosemead\, CA 91770
UID:e.1156.3164
SEQUENCE:3
DTSTAMP:20260422T022757Z
URL:https://business.montebellochamber.org/events/details/soroptimist-fashion-show-extravaganza-luncheon-3164
END:VEVENT

END:VCALENDAR
