BEGIN:VCALENDAR
VERSION:2.0
PRODID:-//ChamberMaster//Event Calendar 2.0//EN
METHOD:PUBLISH
X-PUBLISHED-TTL:P3D
REFRESH-INTERVAL:P3D
CALSCALE:GREGORIAN
BEGIN:VEVENT
DTSTART;VALUE=DATE:20160110
DTEND;VALUE=DATE:20160111
TRANSP:TRANSPARENT
X-MICROSOFT-CDO-ALLDAYEVENT:TRUE
SUMMARY:Spotlight on Montebello Newspaper Articles & Ads Deadline
DESCRIPTION:Montebello Spotlight on Montebello Newspaper is the only Montebello directed mailed newspaper. With a circulation of 15\,000 to residents and businesses\, available to read online at www.montebellochamber.org homepage under "Spotlight Newspaper". The newspaper is available for advertising\, informational articles\, and press releases.\n\n\n\nAll content submitted for the newspaper must be in Microsoft Word and for photos in jpg. of at least 300 dpi. \n\n\n\nThe following is the schedule for publication and art work/article deadline\;\n\n\n\nIssue- Deadline\n\nFebruary- January 10th\n\nApril-March 10th\n\nJune- May 10th\n\nAugust- July 10th\n\nOctober-September 10th\n\nDecember-November 10th\n\n\n\nFor more information contact Jacqueline (323) 721-1153 or email at Jacqueline@montebellochamber.org
X-ALT-DESC;FMTTYPE=text/html:<strong><span style="font-family: verdana\;">M<span style="font-family: tahoma\;">ontebello</span><span style="font-family: tahoma\;"> Spotlight on Montebello Newspaper is the only Montebello directed mailed newspaper. With a circulation of 15\,000 to residents and businesses\, available to read online at www.montebellochamber.org homepage under &quot\;Spotlight Newspaper&quot\;. The newspaper is available for advertising\, informational articles\, and press releases.<br />\n<br />\nAll content submitted for the newspaper must be in Microsoft Word and for photos in jpg. of at least 300 dpi.&nbsp\;<br />\n<br />\nThe following is the schedule for publication and art work/article deadline\;<br />\n<br />\nIssue- Deadline<br />\nFebruary- January 10th<br />\nApril-March 10th<br />\nJune- May 10th<br />\nAugust- July 10th<br />\nOctober-September 10th<br />\nDecember-November 10th<br />\n<br />\nFor more information contact&nbsp\;Jacqueline (323) 721-1153 or email at <a href="mailto:Jacqueline@montebellochamber.org">Jacqueline@montebellochamber.org</a></span></span></strong>
LOCATION:
UID:e.1156.1024
SEQUENCE:3
DTSTAMP:20260419T170322Z
URL:https://business.montebellochamber.org/events/details/spotlight-on-montebello-newspaper-articles-ads-deadline-01-10-2016-1024
END:VEVENT

END:VCALENDAR
