BEGIN:VCALENDAR
VERSION:2.0
PRODID:-//ChamberMaster//Event Calendar 2.0//EN
METHOD:PUBLISH
X-PUBLISHED-TTL:P3D
REFRESH-INTERVAL:P3D
CALSCALE:GREGORIAN
BEGIN:VEVENT
DTSTART:20200619T160000Z
DTEND:20200619T220000Z
X-MICROSOFT-CDO-ALLDAYEVENT:FALSE
SUMMARY:Vail High School Drive Thru 2020 Graduation!
DESCRIPTION:Montebello Unified School District-Vail High School Drive Thru 2020 Graduation!
X-ALT-DESC;FMTTYPE=text/html:Montebello Unified School District-Vail High School Drive Thru 2020 Graduation!
LOCATION:Vail High School to be held at Applied Technology Center 1200 W. Mines Ave. Montebello\, CA 90640
UID:e.1156.3711
SEQUENCE:3
DTSTAMP:20260422T224801Z
URL:https://business.montebellochamber.org/events/details/vail-high-school-drive-thru-2020-graduation-3711
END:VEVENT

END:VCALENDAR
