BEGIN:VCALENDAR
VERSION:2.0
PRODID:-//ChamberMaster//Event Calendar 2.0//EN
METHOD:PUBLISH
X-PUBLISHED-TTL:P3D
REFRESH-INTERVAL:P3D
CALSCALE:GREGORIAN
BEGIN:VEVENT
DTSTART:20160202T180000Z
DTEND:20160213T230000Z
X-MICROSOFT-CDO-ALLDAYEVENT:FALSE
SUMMARY:Valentine's Day Sale
DESCRIPTION:Give your Valentine the gift that lasts!  After the flowers have wilted away and all the candy is gone\, the gift of jewelry can still be cherished for years to come! We've hand-picked some great gift ideas for Valentine's Day at specially-marked prices to make gift-gifing easy!  As always\, we gift-wrap for free\, and when you spend make a purchase of $99 or more\, you'll also receive a Romance Package that includes Dinner for Two at Hye Cuisine Restaurant in Montebello\, Fresh Flowers and Candy!*\n*Some conditions apply.  Expires Feb.\, 13\, 2016
X-ALT-DESC;FMTTYPE=text/html:<div>\n<div>\n<div style="text-align: left\;">\n<div>\n<h2 style="font-style: italic\;"><span style="font-size: 16px\;">Give your Valentine the gift that lasts!&nbsp\; <span style="font-size: 14px\;">After the flowers have wilted away and all the candy is gone\, the gift of jewelry can still be cherished for years to come! We&#39\;ve hand-picked some great gift ideas for Valentine&#39\;s Day at specially-marked prices to make gift-gifing easy!&nbsp\; As always\, we gift-wrap for free\, and when you spend make a purchase of $99 or more\, you&#39\;ll also receive a Romance Package that includes Dinner for Two at Hye Cuisine Restaurant in Montebello\, Fresh Flowers and Candy!*</span></span></h2>\n*Some conditions apply.&nbsp\; Expires Feb.\, 13\, 2016</div>\n</div>\n</div>\n</div>\n
LOCATION:Goldex Fine Jewelry 2445 W. Whittier Blvd.\, Suite 201 Montebello\, CA 90640
UID:e.1156.1452
SEQUENCE:3
DTSTAMP:20260419T200751Z
URL:https://business.montebellochamber.org/events/details/valentine-s-day-sale-02-02-2016-1452
END:VEVENT

END:VCALENDAR
