BEGIN:VCALENDAR
VERSION:2.0
PRODID:-//ChamberMaster//Event Calendar 2.0//EN
METHOD:PUBLISH
X-PUBLISHED-TTL:P3D
REFRESH-INTERVAL:P3D
CALSCALE:GREGORIAN
BEGIN:VEVENT
DTSTART:20200627T190000Z
DTEND:20200627T210000Z
X-MICROSOFT-CDO-ALLDAYEVENT:FALSE
SUMMARY:Virtual Open House for Thee Academy
DESCRIPTION:Try out classes\, meet instructors and ask questions at Thee Academy's Virtual Open House.
X-ALT-DESC;FMTTYPE=text/html:Try out classes\, meet instructors and ask questions at Thee Academy&#39\;s Virtual Open House.&nbsp\;&nbsp\;
LOCATION:Streamed live on Facebook: @balletfolkloricodela
UID:e.1156.3718
SEQUENCE:3
DTSTAMP:20260422T224732Z
URL:https://business.montebellochamber.org/events/details/virtual-open-house-for-thee-academy-3718
END:VEVENT

END:VCALENDAR
