BEGIN:VCALENDAR
VERSION:2.0
PRODID:-//ChamberMaster//Event Calendar 2.0//EN
METHOD:PUBLISH
X-PUBLISHED-TTL:P3D
REFRESH-INTERVAL:P3D
CALSCALE:GREGORIAN
BEGIN:VEVENT
DTSTART:20200628T170000Z
DTEND:20200628T210000Z
X-MICROSOFT-CDO-ALLDAYEVENT:FALSE
SUMMARY:Virtual Stepping Out to Cure Scleroderma
DESCRIPTION:Virtual Stepping Out to Cure Scleroderma - Benefiting the Scleroderma Foundation Southern California Chapter\n\n\n\nLivestreaming on Facebook Live at www.fb.com/sclerodermasocal\n\n\n\nJoin in the fun during the broadcast with:\n\n	Musical Performances!\n	Giveaways!\n	Games!\n	Virtual Scavenger Hunt!\n	...and more!
X-ALT-DESC;FMTTYPE=text/html:Virtual Stepping Out to Cure Scleroderma - Benefiting the Scleroderma Foundation Southern California Chapter<br />\n<br />\nLivestreaming on Facebook Live at www.fb.com/sclerodermasocal<br />\n<br />\nJoin in the fun during the broadcast with:\n<ul>\n	<li>Musical Performances!</li>\n	<li>Giveaways!</li>\n	<li>Games!</li>\n	<li>Virtual Scavenger Hunt!</li>\n	<li>...and more!</li>\n</ul>\n
LOCATION:Facebook Page: www.fb.com/sclerodermasocal
UID:e.1156.3715
SEQUENCE:3
DTSTAMP:20260422T224601Z
URL:https://business.montebellochamber.org/events/details/virtual-stepping-out-to-cure-scleroderma-3715
END:VEVENT

END:VCALENDAR
