BEGIN:VCALENDAR
VERSION:2.0
PRODID:-//ChamberMaster//Event Calendar 2.0//EN
METHOD:PUBLISH
X-PUBLISHED-TTL:P3D
REFRESH-INTERVAL:P3D
CALSCALE:GREGORIAN
BEGIN:VEVENT
DTSTART:20160720T200000Z
DTEND:20160720T230000Z
X-MICROSOFT-CDO-ALLDAYEVENT:FALSE
SUMMARY:Water Safety Day
DESCRIPTION:FREE!!\n\n\n\nWater Fun * Summer Safety Tips
X-ALT-DESC;FMTTYPE=text/html:<div style="text-align:center"><span style="font-size:14px"><strong>FREE!!</strong></span><br />\n<br />\nWater Fun * Summer Safety Tips</div>\n
LOCATION:George Hensel Aquatic Center 1300 W. Olympic Blvd. Montebello\, CA 90640
UID:e.1156.1480
SEQUENCE:3
DTSTAMP:20260420T022546Z
URL:https://business.montebellochamber.org/events/details/water-safety-day-07-20-2016-1480
END:VEVENT

END:VCALENDAR
