BEGIN:VCALENDAR
VERSION:2.0
PRODID:-//ChamberMaster//Event Calendar 2.0//EN
METHOD:PUBLISH
X-PUBLISHED-TTL:P3D
REFRESH-INTERVAL:P3D
CALSCALE:GREGORIAN
BEGIN:VEVENT
DTSTART:20200331T223000Z
DTEND:20200331T233000Z
X-MICROSOFT-CDO-ALLDAYEVENT:FALSE
SUMMARY:Wellness Lecture
DESCRIPTION:Unexpected expenses\, such as long term care\, can arise during retirement. Understand how long term care affects you in retirement and know what options are available to prepare for it.
X-ALT-DESC;FMTTYPE=text/html:Unexpected expenses\, such as long term care\, can arise during retirement. Understand how long term care affects you in retirement and know what options are available to prepare for it.
LOCATION:The lecture will take place at Beverly Hospital Tower Basement Rooms. The address is 309 W. Beverly Blvd.\, Montebello\, CA\, 90640.
UID:e.1156.3578
SEQUENCE:3
DTSTAMP:20260422T190028Z
URL:https://business.montebellochamber.org/events/details/wellness-lecture-3578
END:VEVENT

END:VCALENDAR
