BEGIN:VCALENDAR
VERSION:2.0
PRODID:-//ChamberMaster//Event Calendar 2.0//EN
METHOD:PUBLISH
X-PUBLISHED-TTL:P3D
REFRESH-INTERVAL:P3D
CALSCALE:GREGORIAN
BEGIN:VEVENT
DTSTART:20190518T010000Z
DTEND:20190518T050000Z
X-MICROSOFT-CDO-ALLDAYEVENT:FALSE
SUMMARY:Wine & Deal Casino Night
DESCRIPTION:Mexican American Opportunity Foundation\n\n2nd Annual Fundraiser Wine & Deal Casino Night\n\n\n\nEnjoy cocktails\, small bites\, music\, prizes and fun!  All proceeds will benefit MAOF's toy drive event.\n\nFree Valet Parking
X-ALT-DESC;FMTTYPE=text/html:Mexican American Opportunity Foundation<br />\n2nd Annual Fundraiser Wine &amp\; Deal Casino Night<br />\n<br />\nEnjoy cocktails\, small bites\, music\, prizes and fun!&nbsp\; All proceeds will benefit MAOF&#39\;s toy drive event.<br />\nFree Valet Parking
LOCATION:401 N. Garfield Ave. Montebello\, Ca 90640
UID:e.1156.3282
SEQUENCE:3
DTSTAMP:20260422T050951Z
URL:https://business.montebellochamber.org/events/details/wine-deal-casino-night-3282
END:VEVENT

END:VCALENDAR
